BEGIN:VCALENDAR
VERSION:2.0
PRODID:-//Pestalozzi-Grundschule Birkenwerder - ECPv6.0.12//NONSGML v1.0//EN
CALSCALE:GREGORIAN
METHOD:PUBLISH
X-ORIGINAL-URL:https://grundschule-birkenwerder.de
X-WR-CALDESC:Veranstaltungen für Pestalozzi-Grundschule Birkenwerder
REFRESH-INTERVAL;VALUE=DURATION:PT1H
X-Robots-Tag:noindex
X-PUBLISHED-TTL:PT1H
BEGIN:VTIMEZONE
TZID:Europe/Helsinki
BEGIN:DAYLIGHT
TZOFFSETFROM:+0200
TZOFFSETTO:+0300
TZNAME:EEST
DTSTART:20250330T010000
END:DAYLIGHT
BEGIN:STANDARD
TZOFFSETFROM:+0300
TZOFFSETTO:+0200
TZNAME:EET
DTSTART:20251026T010000
END:STANDARD
BEGIN:DAYLIGHT
TZOFFSETFROM:+0200
TZOFFSETTO:+0300
TZNAME:EEST
DTSTART:20260329T010000
END:DAYLIGHT
BEGIN:STANDARD
TZOFFSETFROM:+0300
TZOFFSETTO:+0200
TZNAME:EET
DTSTART:20261025T010000
END:STANDARD
END:VTIMEZONE
BEGIN:VEVENT
DTSTART;VALUE=DATE:20250908
DTEND;VALUE=DATE:20260709
DTSTAMP:20260423T214549
CREATED:20220713T055804Z
LAST-MODIFIED:20250727T081720Z
UID:3887-1757289600-1783555199@grundschule-birkenwerder.de
SUMMARY:Klassenrat. In der Regel wöchentlich. Den Termin legt die Klasse fest.
DESCRIPTION:
URL:https://grundschule-birkenwerder.de/event/klassenrat-in-der-regel-woechentlich-den-termin-legt-die-klasse-fest/
CATEGORIES:Konferenzen
END:VEVENT
BEGIN:VEVENT
DTSTART;TZID=Europe/Helsinki:20260121T183000
DTEND;TZID=Europe/Helsinki:20260121T200000
DTSTAMP:20260423T214549
CREATED:20241114T103835Z
LAST-MODIFIED:20251209T123527Z
UID:4298-1769020200-1769025600@grundschule-birkenwerder.de
SUMMARY:Elternversammlung für Eltern\, deren Kind 2026 eingeschult werden soll.
DESCRIPTION:Eine Zeitleiste zur Einschulung befindet sich auch auf der Homepage der Schule! \nLinke Randspalte => „Informationen für Familien“ anklicken. Unter der Überschrift „6 Jahre Grundschule“ => zweiter Aufzählungspunkt => „Einschulung 2025“
URL:https://grundschule-birkenwerder.de/event/elternversammlung-fuer-eltern-deren-kind-2025-eingeschult-werden-soll/
CATEGORIES:Termine
END:VEVENT
END:VCALENDAR