BEGIN:VCALENDAR
VERSION:2.0
PRODID:-//Pestalozzi-Grundschule Birkenwerder - ECPv6.0.12//NONSGML v1.0//EN
CALSCALE:GREGORIAN
METHOD:PUBLISH
X-WR-CALNAME:Pestalozzi-Grundschule Birkenwerder
X-ORIGINAL-URL:https://grundschule-birkenwerder.de
X-WR-CALDESC:Veranstaltungen für Pestalozzi-Grundschule Birkenwerder
REFRESH-INTERVAL;VALUE=DURATION:PT1H
X-Robots-Tag:noindex
X-PUBLISHED-TTL:PT1H
BEGIN:VTIMEZONE
TZID:Europe/Helsinki
BEGIN:DAYLIGHT
TZOFFSETFROM:+0200
TZOFFSETTO:+0300
TZNAME:EEST
DTSTART:20250330T010000
END:DAYLIGHT
BEGIN:STANDARD
TZOFFSETFROM:+0300
TZOFFSETTO:+0200
TZNAME:EET
DTSTART:20251026T010000
END:STANDARD
BEGIN:DAYLIGHT
TZOFFSETFROM:+0200
TZOFFSETTO:+0300
TZNAME:EEST
DTSTART:20260329T010000
END:DAYLIGHT
BEGIN:STANDARD
TZOFFSETFROM:+0300
TZOFFSETTO:+0200
TZNAME:EET
DTSTART:20261025T010000
END:STANDARD
END:VTIMEZONE
BEGIN:VEVENT
DTSTART;VALUE=DATE:20250908
DTEND;VALUE=DATE:20260709
DTSTAMP:20260423T221911
CREATED:20220713T055804Z
LAST-MODIFIED:20250727T081720Z
UID:3887-1757289600-1783555199@grundschule-birkenwerder.de
SUMMARY:Klassenrat. In der Regel wöchentlich. Den Termin legt die Klasse fest.
DESCRIPTION:
URL:https://grundschule-birkenwerder.de/event/klassenrat-in-der-regel-woechentlich-den-termin-legt-die-klasse-fest/
CATEGORIES:Konferenzen
END:VEVENT
BEGIN:VEVENT
DTSTART;VALUE=DATE:20251020
DTEND;VALUE=DATE:20251103
DTSTAMP:20260423T221911
CREATED:20220713T050737Z
LAST-MODIFIED:20250725T083947Z
UID:3873-1760918400-1762127999@grundschule-birkenwerder.de
SUMMARY:Herbstferien 2025
DESCRIPTION:
URL:https://grundschule-birkenwerder.de/event/herbstferien-2022/
CATEGORIES:Ferien
END:VEVENT
BEGIN:VEVENT
DTSTART;TZID=Europe/Helsinki:20251103T141500
DTEND;TZID=Europe/Helsinki:20251103T160000
DTSTAMP:20260423T221911
CREATED:20190902T142410Z
LAST-MODIFIED:20250727T081211Z
UID:2131-1762179300-1762185600@grundschule-birkenwerder.de
SUMMARY:Fachkonferenz Deutsch
DESCRIPTION:
URL:https://grundschule-birkenwerder.de/event/fachkonferenz-deutsch/
CATEGORIES:Konferenzen
END:VEVENT
BEGIN:VEVENT
DTSTART;TZID=Europe/Helsinki:20251105T163000
DTEND;TZID=Europe/Helsinki:20251105T183000
DTSTAMP:20260423T221911
CREATED:20230828T094241Z
LAST-MODIFIED:20250727T084043Z
UID:4140-1762360200-1762367400@grundschule-birkenwerder.de
SUMMARY:Schulkonferenz tagt
DESCRIPTION:
URL:https://grundschule-birkenwerder.de/event/schulkonferenz-10/
CATEGORIES:Konferenzen
END:VEVENT
BEGIN:VEVENT
DTSTART;TZID=Europe/Helsinki:20251110T141500
DTEND;TZID=Europe/Helsinki:20251110T163000
DTSTAMP:20260423T221911
CREATED:20250727T082621Z
LAST-MODIFIED:20250727T082621Z
UID:4423-1762784100-1762792200@grundschule-birkenwerder.de
SUMMARY:2. Konferenz der Lehrkäfte tagt
DESCRIPTION:
URL:https://grundschule-birkenwerder.de/event/2-konferenz-der-lehrkaefte-tagt/
CATEGORIES:Konferenzen
END:VEVENT
BEGIN:VEVENT
DTSTART;VALUE=DATE:20251112
DTEND;VALUE=DATE:20251113
DTSTAMP:20260423T221911
CREATED:20240913T104345Z
LAST-MODIFIED:20250727T082846Z
UID:4276-1762905600-1762991999@grundschule-birkenwerder.de
SUMMARY:Ausgabe der Notenübersicht
DESCRIPTION:
URL:https://grundschule-birkenwerder.de/event/ausgabe-der-notenuebersicht-2/
CATEGORIES:Termine
END:VEVENT
BEGIN:VEVENT
DTSTART;VALUE=DATE:20251117
DTEND;VALUE=DATE:20251118
DTSTAMP:20260423T221911
CREATED:20230828T093005Z
LAST-MODIFIED:20250727T082949Z
UID:4122-1763337600-1763423999@grundschule-birkenwerder.de
SUMMARY:Fachkonferenz Englisch
DESCRIPTION:
URL:https://grundschule-birkenwerder.de/event/fachkonferenz-englisch-2/
CATEGORIES:Konferenzen
END:VEVENT
BEGIN:VEVENT
DTSTART;VALUE=DATE:20251118
DTEND;VALUE=DATE:20251119
DTSTAMP:20260423T221911
CREATED:20240913T110112Z
LAST-MODIFIED:20250727T093408Z
UID:4283-1763424000-1763510399@grundschule-birkenwerder.de
SUMMARY:Tag der Kinderrechte
DESCRIPTION:
URL:https://grundschule-birkenwerder.de/event/tag-der-kinderrechte/
CATEGORIES:Termine
END:VEVENT
BEGIN:VEVENT
DTSTART;TZID=Europe/Helsinki:20251119T160000
DTEND;TZID=Europe/Helsinki:20251119T180000
DTSTAMP:20260423T221911
CREATED:20240913T104750Z
LAST-MODIFIED:20250727T083246Z
UID:4279-1763568000-1763575200@grundschule-birkenwerder.de
SUMMARY:Sprechzeit der Fachlehrkräfte nach Vereinbarung
DESCRIPTION:Um Ihnen lange Wartezeiten zur Elternsprechstunde  zu ersparen\, bitte ich Sie\, sich bei den entsprechenden Lehrkräften mit einem Zeitwunsch und einer Ausweichmöglichkeit anzumelden. Die Lehrkräfte\, von denen keine Beratung gewünscht wird\, werden während dieser Zeit nicht anwesend sein.
URL:https://grundschule-birkenwerder.de/event/sprechzeit-der-lehrkraefte/
CATEGORIES:Termine
END:VEVENT
BEGIN:VEVENT
DTSTART;VALUE=DATE:20251124
DTEND;VALUE=DATE:20251125
DTSTAMP:20260423T221911
CREATED:20230828T093439Z
LAST-MODIFIED:20250727T083950Z
UID:4132-1763942400-1764028799@grundschule-birkenwerder.de
SUMMARY:Fachkonferenz Sachunterricht tagt
DESCRIPTION:
URL:https://grundschule-birkenwerder.de/event/fachkonferenz-sachunterricht/
CATEGORIES:Konferenzen
END:VEVENT
END:VCALENDAR